BEGIN:VCALENDAR
VERSION:2.0
PRODID:-//TYPO3/NONSGML News system (news)//EN
METHOD:PUBLISH
BEGIN:VTIMEZONE
TZID:Europe/Berlin
BEGIN:DAYLIGHT
TZOFFSETFROM:+0100
DTSTART:19810329T020000
RRULE:FREQ=YEARLY;BYMONTH=3;BYDAY=-1SU
TZNAME:MESZ
TZOFFSETTO:+0200
END:DAYLIGHT
BEGIN:STANDARD
TZOFFSETFROM:+0200
DTSTART:19961027T030000
RRULE:FREQ=YEARLY;BYMONTH=10;BYDAY=-1SU
TZNAME:MEZ
TZOFFSETTO:+0100
END:STANDARD
END:VTIMEZONE
BEGIN:VEVENT
UID:news-7447@www.uni-wuppertal.de
DTSTAMP:20260415T075510Z
DTSTART;TZID=Europe/Berlin:20260608T100000
DTEND;TZID=Europe/Berlin:20260612T170000
CATEGORIES:Workshop
SUMMARY:Forschungsdatenmanagement
DESCRIPTION:
LOCATION:in Präsenz im Schulungsraum der Universitätsbibliothek, Campus Grifflenberg, Gebäude BZ, Ebene 09, Raum  17

ORGANIZER;CN="Servicezentrum Forschungsdatenmanagement":
END:VEVENT
END:VCALENDAR
