BEGIN:VCALENDAR
VERSION:2.0
PRODID:-//TYPO3/NONSGML News system (news)//EN
METHOD:PUBLISH
BEGIN:VTIMEZONE
TZID:Europe/Berlin
BEGIN:DAYLIGHT
TZOFFSETFROM:+0100
DTSTART:19810329T020000
RRULE:FREQ=YEARLY;BYMONTH=3;BYDAY=-1SU
TZNAME:MESZ
TZOFFSETTO:+0200
END:DAYLIGHT
BEGIN:STANDARD
TZOFFSETFROM:+0200
DTSTART:19961027T030000
RRULE:FREQ=YEARLY;BYMONTH=10;BYDAY=-1SU
TZNAME:MEZ
TZOFFSETTO:+0100
END:STANDARD
END:VTIMEZONE
BEGIN:VEVENT
UID:news-2483@www.uni-wuppertal.de
DTSTAMP:20230227T084309Z
DTSTART;TZID=Europe/Berlin:20230308T120000
DTEND;TZID=Europe/Berlin:20230308T160000
CATEGORIES:Event
SUMMARY:Feminist Reading Space
DESCRIPTION:
LOCATION:Universitätsbibliothek Wuppertal, Konferenzraum im Erdgeschoss
ATTACH:http://www.uni-wuppertal.de/fileadmin/_processed_/a/a/csm_Feminist_Reading_Space_1x1_f2e2a06400.jpg
ORGANIZER;CN="Bildungsraum Flucht  - Gewalt - Geschlecht":
END:VEVENT
END:VCALENDAR
