BEGIN:VCALENDAR
VERSION:2.0
PRODID:-//TYPO3/NONSGML News system (news)//EN
METHOD:PUBLISH
BEGIN:VTIMEZONE
TZID:Europe/Berlin
BEGIN:DAYLIGHT
TZOFFSETFROM:+0100
DTSTART:19810329T020000
RRULE:FREQ=YEARLY;BYMONTH=3;BYDAY=-1SU
TZNAME:MESZ
TZOFFSETTO:+0200
END:DAYLIGHT
BEGIN:STANDARD
TZOFFSETFROM:+0200
DTSTART:19961027T030000
RRULE:FREQ=YEARLY;BYMONTH=10;BYDAY=-1SU
TZNAME:MEZ
TZOFFSETTO:+0100
END:STANDARD
END:VTIMEZONE
BEGIN:VEVENT
UID:news-7441@www.uni-wuppertal.de
DTSTAMP:20260413T151116Z
DTSTART;TZID=Europe/Berlin:20260708T160000
DTEND;TZID=Europe/Berlin:20260708T220000
CATEGORIES:Event
SUMMARY:Campus Sommerfest
DESCRIPTION:
LOCATION:Campus Grifflenberg – Innenhof der Bibliothek, vor Gebäude B und vor ME.05
ATTACH:http://www.uni-wuppertal.de/fileadmin/_processed_/6/2/csm_VA-Kalender_Sommerfest_2026_2f46f6cbae.jpg
ORGANIZER;CN="Universitätskommunikation ":
END:VEVENT
END:VCALENDAR
