BEGIN:VCALENDAR
VERSION:2.0
PRODID:-//TYPO3/NONSGML News system (news)//EN
METHOD:PUBLISH
BEGIN:VTIMEZONE
TZID:Europe/Berlin
BEGIN:DAYLIGHT
TZOFFSETFROM:+0100
DTSTART:19810329T020000
RRULE:FREQ=YEARLY;BYMONTH=3;BYDAY=-1SU
TZNAME:MESZ
TZOFFSETTO:+0200
END:DAYLIGHT
BEGIN:STANDARD
TZOFFSETFROM:+0200
DTSTART:19961027T030000
RRULE:FREQ=YEARLY;BYMONTH=10;BYDAY=-1SU
TZNAME:MEZ
TZOFFSETTO:+0100
END:STANDARD
END:VTIMEZONE
BEGIN:VEVENT
UID:news-7446@www.uni-wuppertal.de
DTSTAMP:20260414T144930Z
DTSTART;TZID=Europe/Berlin:20260619T200000
DTEND;TZID=Europe/Berlin:20260619T230000
CATEGORIES:Event
SUMMARY:1LIVE Hörsaal-Comedy
DESCRIPTION:
LOCATION:Campus Grifflenberg, Hörsaal 33 in Gebäude K, Gaußstraße 20 in 42119 Wuppertal
ATTACH:http://www.uni-wuppertal.de/fileadmin/_processed_/8/4/csm_1L_HSC26_Termine_ALL_4-5_1080x1350px_f51d9a15d0.jpg
ORGANIZER;CN="Universitätskommunikation":
END:VEVENT
END:VCALENDAR
